BEGIN:VCALENDAR
VERSION:2.0
PRODID:-//Équipage Cœur du Var - ECPv6.15.20//NONSGML v1.0//EN
CALSCALE:GREGORIAN
METHOD:PUBLISH
X-ORIGINAL-URL:https://equipagecoeurduvar.org
X-WR-CALDESC:Évènements pour Équipage Cœur du Var
REFRESH-INTERVAL;VALUE=DURATION:PT1H
X-Robots-Tag:noindex
X-PUBLISHED-TTL:PT1H
BEGIN:VTIMEZONE
TZID:Europe/Paris
BEGIN:DAYLIGHT
TZOFFSETFROM:+0100
TZOFFSETTO:+0200
TZNAME:CEST
DTSTART:20250330T010000
END:DAYLIGHT
BEGIN:STANDARD
TZOFFSETFROM:+0200
TZOFFSETTO:+0100
TZNAME:CET
DTSTART:20251026T010000
END:STANDARD
BEGIN:DAYLIGHT
TZOFFSETFROM:+0100
TZOFFSETTO:+0200
TZNAME:CEST
DTSTART:20260329T010000
END:DAYLIGHT
BEGIN:STANDARD
TZOFFSETFROM:+0200
TZOFFSETTO:+0100
TZNAME:CET
DTSTART:20261025T010000
END:STANDARD
BEGIN:DAYLIGHT
TZOFFSETFROM:+0100
TZOFFSETTO:+0200
TZNAME:CEST
DTSTART:20270328T010000
END:DAYLIGHT
BEGIN:STANDARD
TZOFFSETFROM:+0200
TZOFFSETTO:+0100
TZNAME:CET
DTSTART:20271031T010000
END:STANDARD
END:VTIMEZONE
BEGIN:VEVENT
DTSTART;TZID=Europe/Paris:20260501T080000
DTEND;TZID=Europe/Paris:20260503T170000
DTSTAMP:20260420T155254
CREATED:20250912T150715Z
LAST-MODIFIED:20250912T150715Z
UID:2519-1777622400-1777827600@equipagecoeurduvar.org
SUMMARY:Les 01\, 02 et 03 mai 2026 : Sortie en voilier
DESCRIPTION:Pré-inscription pour cette sortie en mer. \nNous reprendrons contact avec toi pour confirmer ou non ta participation (sélection obligatoire suivant le nombre d’inscrits). \nDans l’affirmative\, nous te donnerons rendez-vous : \n\nsoit au Port Darse Nord\nsoit à la Société Nautique\nsoit au Port de l’Ile des Embiez (Six-Fours-les-Plages)\n\nDans l’immédiat\, nous t’invitons à renseigner le bref questionnaire ci-après : \nCLIQUEZ ICI POUR VOUS INSCRIRE
URL:https://equipagecoeurduvar.org/?tribe_events=les-01-02-et-03-mai-2026-sortie-en-voilier
CATEGORIES:Sortie en voilier
ORGANIZER;CN="Association Equipage C%C5%93ur du Var":MAILTO:equipagecoeurduvar@gmail.com
END:VEVENT
BEGIN:VEVENT
DTSTART;TZID=Europe/Paris:20260620T080000
DTEND;TZID=Europe/Paris:20260621T170000
DTSTAMP:20260420T155254
CREATED:20250912T150832Z
LAST-MODIFIED:20260413T080309Z
UID:2521-1781942400-1782061200@equipagecoeurduvar.org
SUMMARY:Les 20 et 21 juin 2026 : Sortie en voilier
DESCRIPTION:Pré-inscription pour cette sortie en mer. \nNous reprendrons contact avec toi pour confirmer ou non ta participation (sélection obligatoire suivant le nombre d’inscrits). \nDans l’affirmative\, nous te donnerons rendez-vous : \n\nsoit au Port Darse Nord\nsoit à la Société Nautique\nsoit au Port de l’Ile des Embiez (Six-Fours-les-Plages)\n\nDans l’immédiat\, nous t’invitons à renseigner le bref questionnaire ci-après : \nCLIQUEZ ICI POUR VOUS INSCRIRE
URL:https://equipagecoeurduvar.org/?tribe_events=les-13-et-14-juin-2026-sortie-en-voilier
CATEGORIES:Sortie en voilier
ORGANIZER;CN="Association Equipage C%C5%93ur du Var":MAILTO:equipagecoeurduvar@gmail.com
END:VEVENT
END:VCALENDAR